BEGIN:VCALENDAR
VERSION:2.0
PRODID:-//Eventin//Event Calendar//EN
CALSCALE:GREGORIAN
METHOD:PUBLISH
BEGIN:VEVENT
UID:fef0e5289a73455ce1d577e956d29782@kristepeoples.com
SUMMARY:The Sanctuary: Returning to the Center
DESCRIPTION:Our journey concludes by focusing on grounding our energy and t
 uning into the soft power of intuition. Through steadying yoga postures\, d
 eep-dive journaling\, and a rooted meditation\, you’ll cultivate a profou
 nd sense of self-trust and devotion to your practice. Leave feeling centere
 d\, stable\, and deeply at home in the sanctuary of your own heart.
LOCATION:Harmonist Sanctuary\, 4633 E Colfax Ave\, Denver\, CO 80220\, USA
DTSTAMP:20260420T093354Z
DTSTART:20260426T153000Z
DTEND:20260426T173000Z
END:VEVENT
END:VCALENDAR
